BEGIN:VCALENDAR
VERSION:2.0
PRODID:-//AudioTheme 3.0.2
BEGIN:VEVENT
UID:urn:uuid:87a5650d-4e15-40b8-b9cb-f8555ba5662b
URL:https://mauriziorussomanno.com/shows/private-show/
DTSTART;TZID=GMT:20240120T153000
SUMMARY:Private Show
LOCATION:Private
END:VEVENT
END:VCALENDAR
