BEGIN:VCALENDAR
VERSION:2.0
PRODID:-//AudioTheme 3.0.2
BEGIN:VEVENT
UID:urn:uuid:9169840d-d409-4284-8f78-c00354b1ab99
URL:https://mauriziorussomanno.com/shows/home-range-winery-16/
DTSTART;TZID=GMT:20250824T180000
SUMMARY:Home Range Winery
LOCATION:Home Range Winery\, 146 Flints Crossing Road\, Canaan\, New York\, United States\, 12029
END:VEVENT
END:VCALENDAR
