BEGIN:VCALENDAR
VERSION:2.0
PRODID:-//AudioTheme 3.0.2
BEGIN:VEVENT
UID:urn:uuid:0dcaaf1e-465a-42f6-832d-0d2d8ab2aaad
URL:https://mauriziorussomanno.com/shows/doc-browns-lakeside-tavern/
DTSTART;TZID=GMT:20240128T173000
SUMMARY:Doc Brown's Lakeside Tavern
LOCATION:Dock Brown's Lakeside Tavern\, 511 NY-9P\, Saratoga Springs\, New York\, United States\, 12866
END:VEVENT
END:VCALENDAR
